BEGIN:VCALENDAR
VERSION:2.0
PRODID:-//Página Oficial Turismo ARACOVE - ECPv6.15.11//NONSGML v1.0//EN
CALSCALE:GREGORIAN
METHOD:PUBLISH
X-ORIGINAL-URL:https://vegasyalcarriamadrid.com
X-WR-CALDESC:Eventos para Página Oficial Turismo ARACOVE
REFRESH-INTERVAL;VALUE=DURATION:PT1H
X-Robots-Tag:noindex
X-PUBLISHED-TTL:PT1H
BEGIN:VTIMEZONE
TZID:UTC
BEGIN:STANDARD
TZOFFSETFROM:+0000
TZOFFSETTO:+0000
TZNAME:UTC
DTSTART:20210101T000000
END:STANDARD
END:VTIMEZONE
BEGIN:VEVENT
DTSTART;TZID=UTC:20221201T080000
DTEND;TZID=UTC:20221231T170000
DTSTAMP:20260419T185741
CREATED:20220127T123550Z
LAST-MODIFIED:20220128T092709Z
UID:8288-1669881600-1672506000@vegasyalcarriamadrid.com
SUMMARY:Perales de Tajuña. Feria de antigüedades\, almoneda y artesanía. 2022
DESCRIPTION:En el mes de diciembre se celebra en Perales la tradicional Feria de antigüedades\, almoneda y artesanía\, en la que se muestran múltiples objetos y utensilios\, antiguos o elaborados artesanalmente\, todo ello envuelto en un bonito aire festivo.
URL:https://vegasyalcarriamadrid.com/evento/perales-de-tajuna-feria-de-antiguedades-almoneda-y-artesania-2022/
END:VEVENT
BEGIN:VEVENT
DTSTART;VALUE=DATE:20221217
DTEND;VALUE=DATE:20221218
DTSTAMP:20260419T185741
CREATED:20220128T092433Z
LAST-MODIFIED:20220128T092433Z
UID:8293-1671235200-1671321599@vegasyalcarriamadrid.com
SUMMARY:Colmenar de Oreja. Belén Viviente
DESCRIPTION:La representación del Belén Viviente en la plaza Mayor de Colmenar de Oreja es una de las más antiguas de la Comunidad de Madrid\, Un belén en el que colaboran todos los habitantes del municipio\, bien a través de donativos\, con su tiempo y con su esfuerzo o con su talento artístico.
URL:https://vegasyalcarriamadrid.com/evento/colmenar-de-oreja-belen-viviente/
ATTACH;FMTTYPE=image/jpeg:https://vegasyalcarriamadrid.com/wp-content/uploads/2022/01/belen-colmenar.jpg
END:VEVENT
BEGIN:VEVENT
DTSTART;VALUE=DATE:20221217
DTEND;VALUE=DATE:20221218
DTSTAMP:20260419T185741
CREATED:20220127T124245Z
LAST-MODIFIED:20220127T125804Z
UID:8291-1671235200-1671321599@vegasyalcarriamadrid.com
SUMMARY:Valdilecha. Belén Viviente y Mercado de Belén
DESCRIPTION:Primero fue la I Representación de la Pasión Viviente de Jesús\, en 1998\, y luego El Belén Viviente\, desde hace más de 20 años. Lo organiza la Asociación Cultural San Martín e intervienen unos cien vecinos. Empieza con el nacimiento del Niño Jesús\, el momento más emocionante\, cuando se encienden bengalas y suena el aleluya. Se celebra en la plaza Mayor de la localidad. \nEse mismo día se organiza el Mercado de Belén\, donde se pueden encontrar productor típicos y se hacen talleres sobre labores tradicionales.
URL:https://vegasyalcarriamadrid.com/evento/valdilecha-belen-viviente-y-mercado-de-belen/
ATTACH;FMTTYPE=image/jpeg:https://vegasyalcarriamadrid.com/wp-content/uploads/2022/01/belen-viviente-valdilecha.jpg
END:VEVENT
BEGIN:VEVENT
DTSTART;VALUE=DATE:20221217
DTEND;VALUE=DATE:20221218
DTSTAMP:20260419T185741
CREATED:20220127T130323Z
LAST-MODIFIED:20220127T130323Z
UID:8290-1671235200-1671321599@vegasyalcarriamadrid.com
SUMMARY:Villarejo de Salvanés. Belén Viviente XII
DESCRIPTION:El Belén Viviente de Villarejo de Salvanés se representa a los pies de la Torre del Homenaje del Castillo de la Orden Militar De Santiago. La curiosidad es que esta exclusivamente realizado por niños de la localidad.
URL:https://vegasyalcarriamadrid.com/evento/villarejo-de-salvanes-belen-viviente-xii/
ATTACH;FMTTYPE=image/jpeg:https://vegasyalcarriamadrid.com/wp-content/uploads/2022/01/belen-vviviente-villarejo.jpg
END:VEVENT
END:VCALENDAR